BEGIN:VCALENDAR
VERSION:2.0
PRODID:-//Club d&#039;Education Canine des Vertes Vallées - ECPv6.3.5//NONSGML v1.0//EN
CALSCALE:GREGORIAN
METHOD:PUBLISH
X-ORIGINAL-URL:https://www.cecvv.com
X-WR-CALDESC:évènements pour Club d&#039;Education Canine des Vertes Vallées
REFRESH-INTERVAL;VALUE=DURATION:PT1H
X-Robots-Tag:noindex
X-PUBLISHED-TTL:PT1H
BEGIN:VTIMEZONE
TZID:Europe/Paris
BEGIN:DAYLIGHT
TZOFFSETFROM:+0100
TZOFFSETTO:+0200
TZNAME:CEST
DTSTART:20240331T010000
END:DAYLIGHT
BEGIN:STANDARD
TZOFFSETFROM:+0200
TZOFFSETTO:+0100
TZNAME:CET
DTSTART:20241027T010000
END:STANDARD
END:VTIMEZONE
BEGIN:VEVENT
DTSTART;TZID=Europe/Paris:20240331T103000
DTEND;TZID=Europe/Paris:20240331T130000
DTSTAMP:20260422T032545
CREATED:20240206T081919Z
LAST-MODIFIED:20240206T081919Z
UID:1390-1711881000-1711890000@www.cecvv.com
SUMMARY:Assemblée générale
DESCRIPTION:L’assemblée générale ordinaire du CECVV qui se déroulera le 31 mars 2024 à 10h30 à la salle des fêtes de Fosseux.\n 
URL:https://www.cecvv.com/event/assemblee-generale/
LOCATION:Salle des fêtes Fosseux\, 2 Rue d'Arras\, Fosseux\, 62810
CATEGORIES:Evènements
END:VEVENT
END:VCALENDAR